BEGIN:VCALENDAR
PRODID:-//eluceo/ical//2.0/EN
VERSION:2.0
CALSCALE:GREGORIAN
BEGIN:VEVENT
UID:749785c6f51004c1e971030f8b99b13c
DTSTAMP:20260422T190444Z
SUMMARY:Stammtisch September @ Leaderanlass Bern
DESCRIPTION:Website: https://www.leaderanlass.ch/de/programm
URL:https://bern.rotaract.ch/nl/agenda/show/184609
DTSTART;TZID=Europe/Zurich:20240910T173000
DTEND;TZID=Europe/Zurich:20240910T210000
LOCATION:BERNEXPO
CATEGORIES:Rotaract
END:VEVENT
BEGIN:VTIMEZONE
TZID:Europe/Zurich
BEGIN:DAYLIGHT
DTSTART:20240910T173000
TZNAME:CEST
TZOFFSETTO:+0200
TZOFFSETFROM:+0200
END:DAYLIGHT
END:VTIMEZONE
END:VCALENDAR
