BEGIN:VCALENDAR
PRODID:-//eluceo/ical//2.0/EN
VERSION:2.0
CALSCALE:GREGORIAN
BEGIN:VEVENT
UID:1e0f163e137ce38b0a0833cbbfd6d025
DTSTAMP:20260422T233620Z
SUMMARY:Rotaract Summer Kids Camp
DESCRIPTION:
URL:https://bern.rotaract.ch/nl/agenda/show/124019
DTSTART;TZID=Europe/Zurich:20210801T090000
DTEND;TZID=Europe/Zurich:20210806T230000
LOCATION:Ferienheim Schrattenblick Marbach LU
CATEGORIES:Rotaract
END:VEVENT
BEGIN:VTIMEZONE
TZID:Europe/Zurich
BEGIN:DAYLIGHT
DTSTART:20210801T090000
TZNAME:CEST
TZOFFSETTO:+0200
TZOFFSETFROM:+0200
END:DAYLIGHT
END:VTIMEZONE
END:VCALENDAR
