BEGIN:VCALENDAR
PRODID:-//eluceo/ical//2.0/EN
VERSION:2.0
CALSCALE:GREGORIAN
BEGIN:VEVENT
UID:1a20c880e4b27c2803cd23b1b0d3dda0
DTSTAMP:20260419T134702Z
SUMMARY:Besuch KPMG Bern
DESCRIPTION:Vefsíða: https://kpmg.com/ch/de/ueber-uns/standorte/bern.html
 \nFyrirlesari(ar): Simon Studer
URL:https://bern.rotaract.ch/is/agenda/show/193285
DTSTART;TZID=Europe/Zurich:20250507T180000
DTEND;TZID=Europe/Zurich:20250507T200000
LOCATION:Bern
CATEGORIES:Rotaract
END:VEVENT
BEGIN:VTIMEZONE
TZID:Europe/Zurich
BEGIN:DAYLIGHT
DTSTART:20250507T180000
TZNAME:CEST
TZOFFSETTO:+0200
TZOFFSETFROM:+0200
END:DAYLIGHT
END:VTIMEZONE
END:VCALENDAR
