BEGIN:VCALENDAR
PRODID:-//eluceo/ical//2.0/EN
VERSION:2.0
CALSCALE:GREGORIAN
BEGIN:VEVENT
UID:a058c1b430fd9183437f1002087d3e1b
DTSTAMP:20260424T120245Z
SUMMARY:Helfen bei der Längmuur-Chilbi
DESCRIPTION:Web stranica: https://spieleninbern.ch/index.php/spielangebote/
 spielplatz-laengmuur
URL:https://bern.rotaract.ch/bs/agenda/show/134003
DTSTART;TZID=Europe/Zurich:20211023T134500
DTEND;TZID=Europe/Zurich:20211030T190000
LOCATION:Spielplatz Längmuur\, Langmauerweg 20a 3011 Bern
CATEGORIES:Rotaract
END:VEVENT
BEGIN:VTIMEZONE
TZID:Europe/Zurich
BEGIN:DAYLIGHT
DTSTART:20211023T134500
TZNAME:CEST
TZOFFSETTO:+0200
TZOFFSETFROM:+0200
END:DAYLIGHT
END:VTIMEZONE
END:VCALENDAR
