BEGIN:VCALENDAR
PRODID:-//eluceo/ical//2.0/EN
VERSION:2.0
CALSCALE:GREGORIAN
BEGIN:VEVENT
UID:01160bbfc7e156d987dbd5984e68c251
DTSTAMP:20260422T100543Z
SUMMARY:Rotaract Stammtisch August
DESCRIPTION:
URL:https://bern.rotaract.ch/bs/agenda/show/126873
DTSTART;TZID=Europe/Zurich:20210819T180000
DTEND;TZID=Europe/Zurich:20210819T220000
LOCATION:Casino Bar Bern
CATEGORIES:Rotaract
END:VEVENT
BEGIN:VTIMEZONE
TZID:Europe/Zurich
BEGIN:DAYLIGHT
DTSTART:20210819T180000
TZNAME:CEST
TZOFFSETTO:+0200
TZOFFSETFROM:+0200
END:DAYLIGHT
END:VTIMEZONE
END:VCALENDAR
